BEGIN:VCALENDAR
VERSION:2.0
PRODID:-//Plone.org//NONSGML plone.app.event//EN
X-WR-TIMEZONE:Brazil/East
BEGIN:VEVENT
SUMMARY:Visita dos técnicos do Interlegis à Assembléia Nacional Popular
DTSTART;TZID=Brazil/East;VALUE=DATE-TIME:20080825T080000
DTEND;TZID=Brazil/East;VALUE=DATE-TIME:20080829T180000
DTSTAMP;VALUE=DATE-TIME:20260423T234147Z
UID:053de8da18284c5a998efdc97c6359e5@localhost:8180
ATTENDEE;CN="Jean Rodrigo Ferri";ROLE=REQ-PARTICIPANT:Jean Rodrigo Ferri
ATTENDEE;CN="Vitor Choi Feitosa";ROLE=REQ-PARTICIPANT:Vitor Choi Feitosa
ATTENDEE;CN="Homem João Fernandes";ROLE=REQ-PARTICIPANT:Homem João Ferna
 ndes
ATTENDEE;CN="Agostinho da Silva";ROLE=REQ-PARTICIPANT:Agostinho da Silva
ATTENDEE;CN="Bambo Seidi";ROLE=REQ-PARTICIPANT:Bambo Seidi
ATTENDEE;CN="Antônio Valentão";ROLE=REQ-PARTICIPANT:Antônio Valentão
CONTACT:Homem João Fernandes\, homem.joao@anpguinebissau.org\, http://www
 .anpguinebissau.org/
CREATED;VALUE=DATE-TIME:20080828T185506Z
LAST-MODIFIED;VALUE=DATE-TIME:20150406T202759Z
LOCATION:Assembléia Nacional Popular
URL:https://www.parlamento.gw/institucional/eventos/visita-dos-tecnicos-da
 -interlis-a-assembleia-nacional-popular
END:VEVENT
BEGIN:VEVENT
SUMMARY:Visita do Deputado Serifo Nhamandjo à Interlegis
DTSTART;TZID=Brazil/East;VALUE=DATE-TIME:20060912T163000
DTEND;TZID=Brazil/East;VALUE=DATE-TIME:20060912T183000
DTSTAMP;VALUE=DATE-TIME:20260423T234147Z
UID:a62846e2761b47ec92d1e6a8e8bb1219@localhost:8180
CREATED;VALUE=DATE-TIME:20060911T215255Z
LAST-MODIFIED;VALUE=DATE-TIME:20150406T202759Z
LOCATION:Diretoria da Interlegis
URL:https://www.parlamento.gw/institucional/eventos/visita-do-deputado-ser
 ifo-nhamandjo-a-interlegis
END:VEVENT
BEGIN:VTIMEZONE
TZID:Brazil/East
X-LIC-LOCATION:Brazil/East
BEGIN:STANDARD
DTSTART;VALUE=DATE-TIME:20060218T230000
TZNAME:BRT
TZOFFSETFROM:-0200
TZOFFSETTO:-0300
END:STANDARD
BEGIN:STANDARD
DTSTART;VALUE=DATE-TIME:20080216T230000
TZNAME:BRT
TZOFFSETFROM:-0200
TZOFFSETTO:-0300
END:STANDARD
END:VTIMEZONE
END:VCALENDAR
